BEGIN:VCALENDAR
VERSION:2.0
PRODID:-//CERN//INDICO//EN
BEGIN:VEVENT
SUMMARY:DIMOP_PLUSZ-4.2.7-23-2024-00001 Tájékoztató Rendezvény - Tisza
 lúc
DTSTART:20260324T090000Z
DTEND:20260324T130000Z
DTSTAMP:20260419T133400Z
UID:indico-event-205@konferencia.dkf.hu
CONTACT:dkk.rendezvenyek@dkf.hu
DESCRIPTION:Tisztelt Meghívottak! \nAz egyenlő hozzáférés elősegít
 ése érdekében az állampolgárok digitális készségeinek minőségi 
 és fenntartható fejlesztése elnevezésű projekt (DIMOP_PLUSZ-4.2.7-23
 -2024-00001) célja digitálisan alulképzett hátrányos helyzetű\, köz
 tük 65 év feletti lakosság digitális készségfejlesztése.\nA projekt
 ben résztvevők digitális fejlesztésének megalapozása elsősorban sze
 mélyes mentori támogatással történik.\nA projekt megvalósítója a D
 igitális Kormányzati Fejlesztés és Projektmenedzsment Kft. Digitális 
 Készségfejlesztő Központja. \nA projekt az Európai Unió támogatás
 ával\, a magyar állam társfinanszírozásával valósul meg.  \nEzút
 on tisztelettel meghívjuk a projekt ismertetése\, az igény megteremtés
 e és a potenciális célcsoporttagok bevonásának megkezdése céljábó
 l szervezett tájékoztató rendezvényünkre.\n \n\nhttps://konferencia.
 dkf.hu/event/205/
IMAGE;VALUE=URI:https://konferencia.dkf.hu/event/205/logo-3264193689.png
LOCATION:Tiszalúc\, Petőfi Sándor Művelődési Ház és Könyvtár
URL:https://konferencia.dkf.hu/event/205/
END:VEVENT
END:VCALENDAR
